BEGIN:VCALENDAR
VERSION:2.0
PRODID:-//The Family Dog - ECPv6.15.16//NONSGML v1.0//EN
CALSCALE:GREGORIAN
METHOD:PUBLISH
X-ORIGINAL-URL:https://www.thefamilydogatl.com
X-WR-CALDESC:Events for The Family Dog
REFRESH-INTERVAL;VALUE=DURATION:PT1H
X-Robots-Tag:noindex
X-PUBLISHED-TTL:PT1H
BEGIN:VTIMEZONE
TZID:UTC
BEGIN:STANDARD
TZOFFSETFROM:+0000
TZOFFSETTO:+0000
TZNAME:UTC
DTSTART:20230101T000000
END:STANDARD
END:VTIMEZONE
BEGIN:VEVENT
DTSTART;VALUE=DATE:20240620
DTEND;VALUE=DATE:20240621
DTSTAMP:20260421T095739
CREATED:20240819T153400Z
LAST-MODIFIED:20240819T153400Z
UID:2330-1718841600-1718927999@www.thefamilydogatl.com
SUMMARY:Drink Michelob Ultra at The Family Dog for a chance to Win FREE 2024 Copa America Tickets!
DESCRIPTION:Drink Michelob Ultra at The Family Dog for a chance to Win FREE 2024 Copa America Tickets!\nStarting June 20th\, all you have to do is:\n1. Show up to Family Dog at 1402 N Highland Ave \n2. Buy a Michelob\n3. Enter into the Raffle \n4. Win FREE tickets
URL:https://www.thefamilydogatl.com/event/drink-michelob-ultra-at-the-family-dog-for-a-chance-to-win-free-2024-copa-america-tickets/
LOCATION:GA
ATTACH;FMTTYPE=image/jpeg:https://www.thefamilydogatl.com/wp-content/uploads/2024/08/IMG_7017-scaled-1.jpeg
END:VEVENT
BEGIN:VEVENT
DTSTART;TZID=UTC:20240625T190000
DTEND;TZID=UTC:20240626T000000
DTSTAMP:20260421T095739
CREATED:20240819T153156Z
LAST-MODIFIED:20240819T153156Z
UID:2327-1719342000-1719360000@www.thefamilydogatl.com
SUMMARY:THAT CALLER BETTER MAKE HOLLER!
DESCRIPTION:We just upped the ante on Tuesdays! \nTacos AND BINGO? \nJoin us every Tuesday Night at 7PM for some serious \nBingo Competition at Family Dog! We’ve got great prizes\, our delicious Taco Tuesday Menu\, and the best part is – all the proceeds go towards supporting Emory University! \nGrab the gang\, come get some tacos and get ready to say BINGO!
URL:https://www.thefamilydogatl.com/event/that-caller-better-make-holler/
LOCATION:GA
ATTACH;FMTTYPE=image/webp:https://www.thefamilydogatl.com/wp-content/uploads/2024/08/81F82E97-FD00-46E7-9D99-0145CC62A271.webp
END:VEVENT
BEGIN:VEVENT
DTSTART;TZID=UTC:20240720T080000
DTEND;TZID=UTC:20240720T230000
DTSTAMP:20260421T095739
CREATED:20240819T152101Z
LAST-MODIFIED:20240819T152230Z
UID:2323-1721462400-1721516400@www.thefamilydogatl.com
SUMMARY:Luau Party
DESCRIPTION:Specials offered will be flavored margs; pineapple\, strawberry\, and passionfruit\, spicy or regular\, smoked pork sliders\, and smoked sausage links.\nLive Music scheduled – Gary Vaughn playing with a tropical theme from 8-11pm.
URL:https://www.thefamilydogatl.com/event/luau-party/
LOCATION:GA
ATTACH;FMTTYPE=image/png:https://www.thefamilydogatl.com/wp-content/uploads/2024/08/Luau.png
END:VEVENT
BEGIN:VEVENT
DTSTART;TZID=UTC:20241105T150000
DTEND;TZID=UTC:20241105T180000
DTSTAMP:20260421T095739
CREATED:20241101T184408Z
LAST-MODIFIED:20241101T184745Z
UID:2368-1730818800-1730829600@www.thefamilydogatl.com
SUMMARY:lucky Hour
DESCRIPTION:3-6pm\nTuesday-Friday\n$7 \nCocktails \nMargarita\nMoscow mule\nGarnder\nEspresso Martini \n  \n$7 \nPitchers \nMiller Light \n  \n$7 \nApps \nTrio Dip\nBrussels Sprouts\nBuffalo Cauliflower\nFried Okra\nFried Pickles \n 
URL:https://www.thefamilydogatl.com/event/lucky-hour/
LOCATION:GA
ATTACH;FMTTYPE=image/jpeg:https://www.thefamilydogatl.com/wp-content/uploads/2024/11/luckyhour_clean1.jpg
END:VEVENT
BEGIN:VEVENT
DTSTART;TZID=UTC:20241106T150000
DTEND;TZID=UTC:20241106T180000
DTSTAMP:20260421T095739
CREATED:20241101T184905Z
LAST-MODIFIED:20241101T184905Z
UID:2369-1730905200-1730916000@www.thefamilydogatl.com
SUMMARY:lucky Hour
DESCRIPTION:3-6pm\nTuesday-Friday\n$7 \nCocktails \nMargarita\nMoscow mule\nGarnder\nEspresso Martini \n  \n$7 \nPitchers \nMiller Light \n  \n$7 \nApps \nTrio Dip\nBrussels Sprouts\nBuffalo Cauliflower\nFried Okra\nFried Pickles \n 
URL:https://www.thefamilydogatl.com/event/lucky-hour-2/
LOCATION:GA
ATTACH;FMTTYPE=image/jpeg:https://www.thefamilydogatl.com/wp-content/uploads/2024/11/luckyhour_clean1.jpg
END:VEVENT
BEGIN:VEVENT
DTSTART;TZID=UTC:20241107T150000
DTEND;TZID=UTC:20241107T180000
DTSTAMP:20260421T095739
CREATED:20241101T185140Z
LAST-MODIFIED:20241101T185140Z
UID:2370-1730991600-1731002400@www.thefamilydogatl.com
SUMMARY:lucky Hour
DESCRIPTION:3-6pm\nTuesday-Friday\n$7 \nCocktails \nMargarita\nMoscow mule\nGarnder\nEspresso Martini \n  \n$7 \nPitchers \nMiller Light \n  \n$7 \nApps \nTrio Dip\nBrussels Sprouts\nBuffalo Cauliflower\nFried Okra\nFried Pickles \n 
URL:https://www.thefamilydogatl.com/event/lucky-hour-3/
LOCATION:GA
ATTACH;FMTTYPE=image/jpeg:https://www.thefamilydogatl.com/wp-content/uploads/2024/11/luckyhour_clean1.jpg
END:VEVENT
BEGIN:VEVENT
DTSTART;TZID=UTC:20241108T150000
DTEND;TZID=UTC:20241108T180000
DTSTAMP:20260421T095739
CREATED:20241101T185217Z
LAST-MODIFIED:20241101T185217Z
UID:2371-1731078000-1731088800@www.thefamilydogatl.com
SUMMARY:lucky Hour
DESCRIPTION:3-6pm\nTuesday-Friday\n$7 \nCocktails \nMargarita\nMoscow mule\nGarnder\nEspresso Martini \n  \n$7 \nPitchers \nMiller Light \n  \n$7 \nApps \nTrio Dip\nBrussels Sprouts\nBuffalo Cauliflower\nFried Okra\nFried Pickles \n 
URL:https://www.thefamilydogatl.com/event/lucky-hour-4/
LOCATION:GA
ATTACH;FMTTYPE=image/jpeg:https://www.thefamilydogatl.com/wp-content/uploads/2024/11/luckyhour_clean1.jpg
END:VEVENT
BEGIN:VEVENT
DTSTART;TZID=UTC:20250222T120000
DTEND;TZID=UTC:20250222T233000
DTSTAMP:20260421T095739
CREATED:20250217T173408Z
LAST-MODIFIED:20250217T173408Z
UID:2377-1740225600-1740267000@www.thefamilydogatl.com
SUMMARY:Oyster Roast
DESCRIPTION:Oyster Roast\nFebruary 22nd\, 12PM\, Join us for Oysters\, live music and wine and beer specials! \nRaw. Baked. Fried. \n$13.00 draft Pitchers \n$6.00 wine specials \n  \nOysters Rockefeller\, Baked Oysters\, Fried Oyster PoBoy \n$14.00 Oyster Shooters
URL:https://www.thefamilydogatl.com/event/oyster-roast/
LOCATION:Oyster Roast
ATTACH;FMTTYPE=image/png:https://www.thefamilydogatl.com/wp-content/uploads/2025/02/Oyster-Roast-1-min.png
END:VEVENT
BEGIN:VEVENT
DTSTART;VALUE=DATE:20250301
DTEND;VALUE=DATE:20250305
DTSTAMP:20260421T095739
CREATED:20250217T173806Z
LAST-MODIFIED:20250224T154706Z
UID:2380-1740787200-1741132799@www.thefamilydogatl.com
SUMMARY:Mardi Gras Party
DESCRIPTION:Mardi Gras Party\nMarch 1-4\, all day\, Come celebrate Mardi Gras with us!\n9$\nGUMBO\nSAZAREC WINE\nHURRICANNES \n5$\nKING CAKE\nBEIGNETS \n6$\nABITA PURPLE HAZE \nFRIED OYSTER POBOYS – MKT PRICE!
URL:https://www.thefamilydogatl.com/event/madri-gras-party/
LOCATION:GA
ATTACH;FMTTYPE=image/png:https://www.thefamilydogatl.com/wp-content/uploads/2025/02/Oyster-Roast-8-1-min.png
END:VEVENT
BEGIN:VEVENT
DTSTART;TZID=UTC:20250308T190000
DTEND;TZID=UTC:20250308T233000
DTSTAMP:20260421T095739
CREATED:20250217T174218Z
LAST-MODIFIED:20250224T154851Z
UID:2382-1741460400-1741476600@www.thefamilydogatl.com
SUMMARY:Kyle Pease Foundation
DESCRIPTION:Kyle Pease Foundation\nMarch 8th. 7:00 PM- Late.\n$100 \nTickets \nDonate to a good cause and jam out to Live Music all night!\nA night of music and revelry benefiting “The Kyle Pease Foudation” \nLive Music | A Grea Cause | Open Bar for the first 2 hours
URL:https://www.thefamilydogatl.com/event/kyle-pease-foundation/
LOCATION:GA
ATTACH;FMTTYPE=image/jpeg:https://www.thefamilydogatl.com/wp-content/uploads/2025/02/IMG_5741-min.jpeg
END:VEVENT
BEGIN:VEVENT
DTSTART;VALUE=DATE:20250315
DTEND;VALUE=DATE:20250316
DTSTAMP:20260421T095739
CREATED:20250217T174833Z
LAST-MODIFIED:20250224T155210Z
UID:2386-1741996800-1742083199@www.thefamilydogatl.com
SUMMARY:St. Patrick's Day
DESCRIPTION:St. Patrick’s Day\nMarch 15th\, all day!\nGrab your green gear and join us for specials all day!\n$4\nGREEN TEA SHOTS \n$6\nIRISH CAR BOMBS\nGREEN DRAFT BEER\nIRISH CREAM\nCOFFEE CAKE \n$15\nCORNED BEEF\nAND\nCABBAGE
URL:https://www.thefamilydogatl.com/event/st-patricks-day/
LOCATION:GA
ATTACH;FMTTYPE=image/png:https://www.thefamilydogatl.com/wp-content/uploads/2025/02/Oyster-Roast-9-min.png
END:VEVENT
BEGIN:VEVENT
DTSTART;TZID=UTC:20250318T120000
DTEND;TZID=UTC:20250318T233000
DTSTAMP:20260421T095739
CREATED:20250217T174522Z
LAST-MODIFIED:20250224T155426Z
UID:2384-1742299200-1742340600@www.thefamilydogatl.com
SUMMARY:March Madness
DESCRIPTION:March Madness\nALL month long!\nFill out your bracket and root on your favorite team | Brackets\, Beer specials\, Food specials\, and more!
URL:https://www.thefamilydogatl.com/event/march-madness/
LOCATION:GA
ATTACH;FMTTYPE=image/png:https://www.thefamilydogatl.com/wp-content/uploads/2025/02/Oyster-Roast-6-min.png
END:VEVENT
BEGIN:VEVENT
DTSTART;VALUE=DATE:20250410
DTEND;VALUE=DATE:20250414
DTSTAMP:20260421T095739
CREATED:20250407T124849Z
LAST-MODIFIED:20250409T185418Z
UID:2429-1744243200-1744588799@www.thefamilydogatl.com
SUMMARY:Master's April 10th-13th
DESCRIPTION:Master’s April 10th-13th\n Masters Watch Party at The Family Dog \nLooking for a laid-back bar in Virginia Highland to catch the biggest weekend in golf?\nThe Family Dog on North Highland Avenue is the place to be this Masters Tournament. \nFrom Thursday to Sunday\, we’re serving cold drinks\, tasty bites\, and nothing but good Augusta vibes. \n\n $16 Miller High Life Pitchers\n $12 Azaleas & Transfusions\n $10 Arnold Palmers (boozy or zero-proof)\n $5 Pimento Cheese Sammies\n $5 Egg Salad Sammies\n\nWe’re one of the few dog-friendly restaurants in Atlanta\, so bring your pup\, grab a drink\, and settle in to watch every swing\, chip\, and putt on screen. \nWhether you’re searching for great bars\, restaurants near you\, or just a chill hangout in the Virginia Highlands\, come sit\, drink\, and stay at The Family Dog. \n1402 North Highland Avenue NE\nYour neighborhood bar for golf\, friends\, food—and yes\, dogs.
URL:https://www.thefamilydogatl.com/event/masters-april-10th-13th/
LOCATION:The Family Dog\, 1402 N Highland Ave\, Atlanta\, GA\, 30306\, United States
ATTACH;FMTTYPE=image/png:https://www.thefamilydogatl.com/wp-content/uploads/2025/04/Untitled-4-2.png
ORGANIZER;CN="The Family Dog":MAILTO:info@thefamilydogatl.com
END:VEVENT
BEGIN:VEVENT
DTSTART;VALUE=DATE:20250426
DTEND;VALUE=DATE:20250427
DTSTAMP:20260421T095739
CREATED:20250407T125208Z
LAST-MODIFIED:20250409T185608Z
UID:2431-1745625600-1745711999@www.thefamilydogatl.com
SUMMARY:Crawfish Boil
DESCRIPTION:Crawfish Boil – April 26th\nCRAWFISH BOIL at The Family Dog \nLooking for food near you that brings the flavor and the fun?\nJoin us on North Highland Avenue for a good ol’ fashioned Crawfish Boil at The Family Dog\, one of the top dog-friendly restaurants in Atlanta. \nWe’re firing up the pots for a Sunday Funday full of spice\, southern vibes\, and ice-cold beer. \n\n Crawfish by the pound\n Potatoes\, corn\, sausage – you know the drill\n Beer specials flowing all day\n Live music + patio hangs\n Dog-friendly as always\n\nIf you’re hunting for the best bars or Virginia Highlands restaurants to post up with your crew (and your pup)\, we’ve got your seat ready. \n1402 North Highland Avenue NE\nSit. Drink. Stay. And get messy—it’s part of the charm.
URL:https://www.thefamilydogatl.com/event/crawfish-boil/
LOCATION:The Family Dog\, 1402 N Highland Ave\, Atlanta\, GA\, 30306\, United States
ATTACH;FMTTYPE=image/jpeg:https://www.thefamilydogatl.com/wp-content/uploads/2025/04/crawfishboil-scaled.jpeg
ORGANIZER;CN="The Family Dog":MAILTO:info@thefamilydogatl.com
END:VEVENT
BEGIN:VEVENT
DTSTART;VALUE=DATE:20250505
DTEND;VALUE=DATE:20250506
DTSTAMP:20260421T095739
CREATED:20250407T130845Z
LAST-MODIFIED:20250408T140023Z
UID:2434-1746403200-1746489599@www.thefamilydogatl.com
SUMMARY:Cinco de Mayo
DESCRIPTION:Cinco de Mayo – May 5th – Monday\n\nTaco Tuesday Specials\n$18.00 Pitcher of House Margarita
URL:https://www.thefamilydogatl.com/event/cinco-de-mayo/
LOCATION:The Family Dog\, 1402 N Highland Ave\, Atlanta\, GA\, 30306\, United States
ATTACH;FMTTYPE=image/png:https://www.thefamilydogatl.com/wp-content/uploads/2025/04/Untitled-10.png
ORGANIZER;CN="The Family Dog":MAILTO:info@thefamilydogatl.com
END:VEVENT
BEGIN:VEVENT
DTSTART;VALUE=DATE:20250725
DTEND;VALUE=DATE:20250728
DTSTAMP:20260421T095739
CREATED:20250724T161302Z
LAST-MODIFIED:20250724T161326Z
UID:2479-1753401600-1753660799@www.thefamilydogatl.com
SUMMARY:TFD 9 Year Anniversary Party
DESCRIPTION:TFD 9 Year Anniversary Party \nJuly 25-27th – All weekend long\nJoin us this weekend to celebrate TFD’s Birthday! We have been open for NINE YEARS this weekend and we are throwing a huge party. Think Live Music\, Food & Drink Specials – including some new speciality brunch items\, and MORE! Bring your friends\, bring your family\, and most importantly bring the dog! Let’s hang out like the good ol days and cheers to the next 9 years!
URL:https://www.thefamilydogatl.com/event/tfd-9-year-anniversary-party/
LOCATION:The Family Dog\, 1402 N Highland Ave\, Atlanta\, GA\, 30306\, United States
ATTACH;FMTTYPE=image/png:https://www.thefamilydogatl.com/wp-content/uploads/2025/07/Untitled-5-2.png
ORGANIZER;CN="The Family Dog":MAILTO:info@thefamilydogatl.com
END:VEVENT
BEGIN:VEVENT
DTSTART;VALUE=DATE:20250725
DTEND;VALUE=DATE:20250901
DTSTAMP:20260421T095739
CREATED:20250725T200946Z
LAST-MODIFIED:20250725T200946Z
UID:2482-1753401600-1756684799@www.thefamilydogatl.com
SUMMARY:Braves - All Season Long at TFD
DESCRIPTION:Braves – All Season Long at TFD\nEvery base\, every hit\, every game\, LIVE at TFD. Join us inside or out on the patio with your favorite drink in hand – all season long we’ve got:\n$5 COORS LIGHT BOTTLES\n$8.75 160Z BLUE MOON \n$11.50 230Z BLUE MOON \n$8 BRAVORITA \n$8 SUNCRUISER \n$10 CHERRY LIMEADE SPRITZER \nWear your favorite jersey\, dive into some wings\, and let’s go Braves!
URL:https://www.thefamilydogatl.com/event/braves-all-season-long-at-tfd/
LOCATION:The Family Dog\, 1402 N Highland Ave\, Atlanta\, GA\, 30306\, United States
ATTACH;FMTTYPE=image/png:https://www.thefamilydogatl.com/wp-content/uploads/2025/07/Braves-3-1.png
ORGANIZER;CN="The Family Dog":MAILTO:info@thefamilydogatl.com
END:VEVENT
END:VCALENDAR